BEGIN:VCALENDAR
VERSION:2.0
PRODID:-//LSOK - ECPv6.15.20//NONSGML v1.0//EN
CALSCALE:GREGORIAN
METHOD:PUBLISH
X-WR-CALNAME:LSOK
X-ORIGINAL-URL:https://lifesciok.com
X-WR-CALDESC:Events for LSOK
REFRESH-INTERVAL;VALUE=DURATION:PT1H
X-Robots-Tag:noindex
X-PUBLISHED-TTL:PT1H
BEGIN:VTIMEZONE
TZID:America/Chicago
BEGIN:DAYLIGHT
TZOFFSETFROM:-0600
TZOFFSETTO:-0500
TZNAME:CDT
DTSTART:20240310T080000
END:DAYLIGHT
BEGIN:STANDARD
TZOFFSETFROM:-0500
TZOFFSETTO:-0600
TZNAME:CST
DTSTART:20241103T070000
END:STANDARD
BEGIN:DAYLIGHT
TZOFFSETFROM:-0600
TZOFFSETTO:-0500
TZNAME:CDT
DTSTART:20250309T080000
END:DAYLIGHT
BEGIN:STANDARD
TZOFFSETFROM:-0500
TZOFFSETTO:-0600
TZNAME:CST
DTSTART:20251102T070000
END:STANDARD
BEGIN:DAYLIGHT
TZOFFSETFROM:-0600
TZOFFSETTO:-0500
TZNAME:CDT
DTSTART:20260308T080000
END:DAYLIGHT
BEGIN:STANDARD
TZOFFSETFROM:-0500
TZOFFSETTO:-0600
TZNAME:CST
DTSTART:20261101T070000
END:STANDARD
END:VTIMEZONE
BEGIN:VTIMEZONE
TZID:America/New_York
BEGIN:DAYLIGHT
TZOFFSETFROM:-0500
TZOFFSETTO:-0400
TZNAME:EDT
DTSTART:20240310T070000
END:DAYLIGHT
BEGIN:STANDARD
TZOFFSETFROM:-0400
TZOFFSETTO:-0500
TZNAME:EST
DTSTART:20241103T060000
END:STANDARD
BEGIN:DAYLIGHT
TZOFFSETFROM:-0500
TZOFFSETTO:-0400
TZNAME:EDT
DTSTART:20250309T070000
END:DAYLIGHT
BEGIN:STANDARD
TZOFFSETFROM:-0400
TZOFFSETTO:-0500
TZNAME:EST
DTSTART:20251102T060000
END:STANDARD
BEGIN:DAYLIGHT
TZOFFSETFROM:-0500
TZOFFSETTO:-0400
TZNAME:EDT
DTSTART:20260308T070000
END:DAYLIGHT
BEGIN:STANDARD
TZOFFSETFROM:-0400
TZOFFSETTO:-0500
TZNAME:EST
DTSTART:20261101T060000
END:STANDARD
END:VTIMEZONE
BEGIN:VEVENT
DTSTART;TZID=America/Chicago:20251030T160000
DTEND;TZID=America/Chicago:20251030T180000
DTSTAMP:20260423T035428
CREATED:20250905T205008Z
LAST-MODIFIED:20251027T200227Z
UID:10000103-1761840000-1761847200@lifesciok.com
SUMMARY:Bio Science on Tap
DESCRIPTION:Close out Bioscience Week with an evening of connection and conversation at Bioscience on Tap. Brought to you by Life Science Oklahoma\, this casual networking event brings together bioscience professionals from across the region for drinks\, light hors d’oeuvres\, and great company. Relax\, unwind\, and toast to the growth and innovation driving Oklahoma’s bioscience community. \nTicket includes 2 drink tickets and light appetizers. \nGold Sponsor \n \nSilver Sponsor
URL:https://lifesciok.com/event/bio-science-on-tap/
LOCATION:Innovation Hall\, 316 NE 9th St.\, Oklahoma City\, OK\, 73104\, United States
END:VEVENT
BEGIN:VEVENT
DTSTART;TZID=America/Chicago:20251003T113000
DTEND;TZID=America/Chicago:20251003T130000
DTSTAMP:20260423T035428
CREATED:20250826T204841Z
LAST-MODIFIED:20250826T204841Z
UID:10000102-1759491000-1759496400@lifesciok.com
SUMMARY:Catalyst: The Future of Science\, Business and Health
DESCRIPTION:Catalyst Series Launch: Rethinking Healthcare with Microsoft’s Kathy VanEnkevort \nA conversation at the intersection of innovation\, AI\, and the future of life sciences \nRegister Now! \nJoin us for the inaugural Catalyst event\, presented by Life Science Oklahoma\, featuring Kathy VanEnkevort—Microsoft’s U.S. Health & Life Sciences Industry Leader. \nKathy is a nationally recognized force in reimagining life science and healthcare. With decades of experience and a 2019 IBM Women of Watson Lifetime Achievement Award to her name\, she has helped shape how frontline workers use technology\, how systems build operational resilience\, and how AI can uncover vital advancements in health\, research and business. \nIn this engaging talk\, Kathy will share her insights on how emerging tools and data-driven thinking are challenging long-held assumptions and redefining what’s possible in life sciences. Whether you’re a researcher\, entrepreneur\, business leader or healthcare professional\, you’ll leave inspired to think bigger—and differently—about the future. \nCatalyst: The Future of Science\, Business and Health \nFriday\, Oct. 3 \n11:30 a.m. to Noon: Lunch \nNoon to 1:30 p.m.: Keynote with Kathy VanEnkevort \nInnovation Hall \n$50 LSOK members | $60 for nonmembers \nIndividuals are eligible for member pricing if their employer is a member of Life Science Oklahoma. \nSponsorship opportunities are available for this event. Please contact mgregory@lifesciok.com for more details.
URL:https://lifesciok.com/event/catalyst-the-future-of-science-business-and-health/
LOCATION:Innovation Hall\, 316 NE 9th St.\, Oklahoma City\, OK\, 73104\, United States
END:VEVENT
BEGIN:VEVENT
DTSTART;TZID=America/Chicago:20250417T163000
DTEND;TZID=America/Chicago:20250417T183000
DTSTAMP:20260423T035428
CREATED:20250328T203121Z
LAST-MODIFIED:20250328T203416Z
UID:10000099-1744907400-1744914600@lifesciok.com
SUMMARY:GenAI for Life Sciences: Learning from the Video Game Industry
DESCRIPTION:The videogames industry has fearlessly embraced GenAI to deliver the next generation of glorious\ncontent. What happens when we unleash these techniques in healthcare? \nSam Glassenberg has flown spaceships for LucasFilm\, led Emmy-award-winning video game\nplatform teams at Microsoft\, and built multiple game companies in Hollywood and beyond. At\nLevel Ex\, his team unleashes video game technology and neuroscience on healthcare. \nOffering the only games certified to provide AMA Category 1 CME credit\, Level Ex games are\nplayed by over a million medical professionals. They are used by the top life science companies\,\nmedical societies\, and NASA – to disseminate the latest guidelines and techniques for topics\nranging from rare disease diagnosis to space health. \nRegister here. 
URL:https://lifesciok.com/event/genai-for-life-sciences-learning-from-the-video-game-industry/
LOCATION:Innovation Hall\, 316 NE 9th St.\, Oklahoma City\, OK\, 73104\, United States
ATTACH;FMTTYPE=image/png:https://lifesciok.com/wp-content/uploads/2025/03/LifeSci_LevelEX_LinkedinGraphic2.png
END:VEVENT
BEGIN:VEVENT
DTSTART;TZID=America/New_York:20250225T163000
DTEND;TZID=America/New_York:20250225T183000
DTSTAMP:20260423T035428
CREATED:20250114T224733Z
LAST-MODIFIED:20250216T224712Z
UID:10000095-1740501000-1740508200@lifesciok.com
SUMMARY:Power Up Your Life Science Concept and Company: Essential Resources for Growth and Success
DESCRIPTION:Join us on Tuesday\, February 25th from 4:30 to 6:30 p.m. for an insightful discussion with local and national experts on the best practices for funding and growing your life science company. This free event will take place at Innovation Hall. Be sure to RSVP here!
URL:https://lifesciok.com/event/prof-lauriane-schimmel-talks-personnel-recruiter/
LOCATION:Innovation Hall\, 316 NE 9th St.\, Oklahoma City\, OK\, 73104\, United States
CATEGORIES:Generated
ATTACH;FMTTYPE=image/png:https://lifesciok.com/wp-content/uploads/2024/05/Life-Science-Oklahoma-MAIN-RGB.png
END:VEVENT
END:VCALENDAR